BEGIN:VCALENDAR
VERSION:2.0
PRODID:-//Hillcrest At Saffold Way - ECPv6.15.20//NONSGML v1.0//EN
CALSCALE:GREGORIAN
METHOD:PUBLISH
X-ORIGINAL-URL:https://www.hillcrest-cluster.com
X-WR-CALDESC:Events for Hillcrest At Saffold Way
REFRESH-INTERVAL;VALUE=DURATION:PT1H
X-Robots-Tag:noindex
X-PUBLISHED-TTL:PT1H
BEGIN:VTIMEZONE
TZID:America/New_York
BEGIN:DAYLIGHT
TZOFFSETFROM:-0500
TZOFFSETTO:-0400
TZNAME:EDT
DTSTART:20180311T070000
END:DAYLIGHT
BEGIN:STANDARD
TZOFFSETFROM:-0400
TZOFFSETTO:-0500
TZNAME:EST
DTSTART:20181104T060000
END:STANDARD
BEGIN:DAYLIGHT
TZOFFSETFROM:-0500
TZOFFSETTO:-0400
TZNAME:EDT
DTSTART:20190310T070000
END:DAYLIGHT
BEGIN:STANDARD
TZOFFSETFROM:-0400
TZOFFSETTO:-0500
TZNAME:EST
DTSTART:20191103T060000
END:STANDARD
BEGIN:DAYLIGHT
TZOFFSETFROM:-0500
TZOFFSETTO:-0400
TZNAME:EDT
DTSTART:20200308T070000
END:DAYLIGHT
BEGIN:STANDARD
TZOFFSETFROM:-0400
TZOFFSETTO:-0500
TZNAME:EST
DTSTART:20201101T060000
END:STANDARD
END:VTIMEZONE
BEGIN:VTIMEZONE
TZID:UTC
BEGIN:STANDARD
TZOFFSETFROM:+0000
TZOFFSETTO:+0000
TZNAME:UTC
DTSTART:20170101T000000
END:STANDARD
END:VTIMEZONE
BEGIN:VEVENT
DTSTART;TZID=America/New_York:20190514T193000
DTEND;TZID=America/New_York:20190514T210000
DTSTAMP:20260423T201221
CREATED:20190205T041603Z
LAST-MODIFIED:20190508T190554Z
UID:3982-1557862200-1557867600@www.hillcrest-cluster.com
SUMMARY:May Board Meeting
DESCRIPTION:Monthly Cluster Board Meeting \nIf you have a specific issue you’d like to bring to the Board’s attention or wish to attend the meeting in person\, please send an email to info@hillcrest-cluster.com \nWe typically provide residents/homeowners an opportunity to speak/bring an issue up in the first 10 minutes of the meeting.\n\nWe meet at different Board members houses each month\, and need advance notification if visitors would like to attend (because we don’t have unlimited space\, of course). Please let us know asap if you intend to attend.
URL:https://www.hillcrest-cluster.com/event/may-board-meeting/
LOCATION:11052 Saffold Way\, 11052 Saffold Way\, Reston\, VA\, 20190\, United States
END:VEVENT
BEGIN:VEVENT
DTSTART;TZID=America/New_York:20190430T193000
DTEND;TZID=America/New_York:20190430T210000
DTSTAMP:20260423T201221
CREATED:20190423T012548Z
LAST-MODIFIED:20190423T012608Z
UID:4068-1556652600-1556658000@www.hillcrest-cluster.com
SUMMARY:HCA Special Meeting on Parking 2
DESCRIPTION:Please join the Hillcrest Cluster Board to discuss the proposed move to a reserved parking plan that will feature one reserved parking spot per residence.  As previewed at the Annual Meeting in December\, in last year’s community survey of Hillcrest Cluster residents\, a significant majority of respondents identified parking as their most troubling issue. The Board considered a number of options\, and after consulting with the Cluster’s legal counsel\, selected a one reserved spot system as the most equitable and workable option. \nWhen:  30 April 2019\, 7:30 to 9:00pm \nWhere:  Forest Edge Elementary School\, Cafeteria \nThe Board will open the meeting with an explanation of the parking issue within the Cluster\, how a one reserved spot system could work\, and provide a draft map depicting the proposed parking system. The bulk of the meeting is for a discussion among residents. The Board is interested in hearing from as many residents as possible\, and we will request that residents limit their opening statement to two minutes\, with the opportunity to respond for one minute to a direct question. \nThe Board looks forward to the discussion on the 17th.
URL:https://www.hillcrest-cluster.com/event/hca-special-meeting-on-parking-2/
LOCATION:Forest Edge Elementary School\, 1501 Becontree Ln\, Reston\, VA 20190\, Reston\, VA\, 20190\, United States
END:VEVENT
BEGIN:VEVENT
DTSTART;TZID=America/New_York:20190427T080000
DTEND;TZID=America/New_York:20190427T140000
DTSTAMP:20260423T201221
CREATED:20190412T203103Z
LAST-MODIFIED:20190412T203125Z
UID:4058-1556352000-1556373600@www.hillcrest-cluster.com
SUMMARY:Cluster Cleanup
DESCRIPTION:Please join us for the annual spring cluster cleanup event.  Join your neighbors in helping keep Hillcrest Cluster a beautiful place to live. \nCoffee & Donuts will be served at 8:00 am and Clean up will begin at 8:30 am.
URL:https://www.hillcrest-cluster.com/event/cluster-cleanup/
LOCATION:Basketball Court\, 11116 Saffold Way\, Reston\, VA\, 20190\, United States
END:VEVENT
BEGIN:VEVENT
DTSTART;TZID=America/New_York:20190420T093000
DTEND;TZID=America/New_York:20190420T120000
DTSTAMP:20260423T201221
CREATED:20190412T202913Z
LAST-MODIFIED:20190412T202913Z
UID:4056-1555752600-1555761600@www.hillcrest-cluster.com
SUMMARY:Easter Egg Hunt
DESCRIPTION:Join us at the basketball court for the annual community Easter egg hunt for kids and families.
URL:https://www.hillcrest-cluster.com/event/easter-egg-hunt/
LOCATION:Basketball Court\, 11116 Saffold Way\, Reston\, VA\, 20190\, United States
END:VEVENT
BEGIN:VEVENT
DTSTART;TZID=America/New_York:20190417T193000
DTEND;TZID=America/New_York:20190417T210000
DTSTAMP:20260423T201221
CREATED:20190407T185307Z
LAST-MODIFIED:20190407T185307Z
UID:4053-1555529400-1555534800@www.hillcrest-cluster.com
SUMMARY:HCA Special Community Meeting on Parking
DESCRIPTION:Please join the Hillcrest Cluster Board to discuss the proposed move to a reserved parking plan that will feature one reserved parking spot per residence.  As previewed at the Annual Meeting in December\, in last year’s community survey of Hillcrest Cluster residents\, a significant majority of respondents identified parking as their most troubling issue. The Board considered a number of options\, and after consulting with the Cluster’s legal counsel\, selected a one reserved spot system as the most equitable and workable option. \nWhen:  17 April 2019\, 7:30 to 9:00pm \nWhere:  Forest Edge Elementary School\, Cafeteria \nThe Board will open the meeting with an explanation of the parking issue within the Cluster\, how a one reserved spot system could work\, and provide a draft map depicting the proposed parking system. The bulk of the meeting is for a discussion among residents. The Board is interested in hearing from as many residents as possible\, and we will request that residents limit their opening statement to two minutes\, with the opportunity to respond for one minute to a direct question. \nThe Board looks forward to the discussion on the 17th.
URL:https://www.hillcrest-cluster.com/event/hca-special-community-meeting-on-parking/
LOCATION:Forest Edge Elementary School\, 1501 Becontree Ln\, Reston\, VA 20190\, Reston\, VA\, 20190\, United States
END:VEVENT
BEGIN:VEVENT
DTSTART;TZID=America/New_York:20190409T193000
DTEND;TZID=America/New_York:20190409T210000
DTSTAMP:20260423T201221
CREATED:20190205T041523Z
LAST-MODIFIED:20190205T042512Z
UID:3979-1554838200-1554843600@www.hillcrest-cluster.com
SUMMARY:April Board Meeting
DESCRIPTION:Monthly Cluster Board Meeting \nIf you have a specific issue you’d like to bring to the Board’s attention or wish to attend the meeting in person\, please send an email to info@hillcrest-cluster.com \nWe typically provide residents/homeowners an opportunity to speak/bring an issue up in the first 10 minutes of the meeting.\n\nWe meet at different Board members houses each month\, and need advance notification if visitors would like to attend (because we don’t have unlimited space\, of course). Please let us know asap if you intend to attend.
URL:https://www.hillcrest-cluster.com/event/april-board-meeting/
LOCATION:11052 Saffold Way\, 11052 Saffold Way\, Reston\, VA\, 20190\, United States
END:VEVENT
BEGIN:VEVENT
DTSTART;VALUE=DATE:20190330
DTEND;VALUE=DATE:20190331
DTSTAMP:20260423T201221
CREATED:20190205T041420Z
LAST-MODIFIED:20190205T041420Z
UID:3977-1553904000-1553990399@www.hillcrest-cluster.com
SUMMARY:Cluster Easter Egg Hunt
DESCRIPTION:Annual Easter Egg Hunt Celebration for Friends & Neighbors
URL:https://www.hillcrest-cluster.com/event/cluster-easter-egg-hunt/
LOCATION:Basketball Court\, 11116 Saffold Way\, Reston\, VA\, 20190\, United States
END:VEVENT
BEGIN:VEVENT
DTSTART;TZID=America/New_York:20190312T193000
DTEND;TZID=America/New_York:20190312T210000
DTSTAMP:20260423T201221
CREATED:20190205T041222Z
LAST-MODIFIED:20190313T032107Z
UID:3975-1552419000-1552424400@www.hillcrest-cluster.com
SUMMARY:March Board Meeting
DESCRIPTION:Monthly Cluster Board Meeting \nIf you have a specific issue you’d like to bring to the Board’s attention or wish to attend the meeting in person\, please send an email to info@hillcrest-cluster.com \nWe typically provide residents/homeowners an opportunity to speak/bring an issue up in the first 10 minutes of the meeting.\n\nWe meet at different Board members houses each month\, and need advance notification if visitors would like to attend (because we don’t have unlimited space\, of course). Please let us know asap if you intend to attend.
URL:https://www.hillcrest-cluster.com/event/march-board-meeting/
LOCATION:11170 Saffold Way\, 11170 Saffold Way\, Reston\, VA\, 20190
END:VEVENT
BEGIN:VEVENT
DTSTART;TZID=America/New_York:20190219T193000
DTEND;TZID=America/New_York:20190219T210000
DTSTAMP:20260423T201221
CREATED:20190205T041135Z
LAST-MODIFIED:20190220T050319Z
UID:3971-1550604600-1550610000@www.hillcrest-cluster.com
SUMMARY:February Board Meeting
DESCRIPTION:Monthly Cluster Board Meeting \nIf you have a specific issue you’d like to bring to the Board’s attention or wish to attend the meeting in person\, please send an email to info@hillcrest-cluster.com \nWe typically provide residents/homeowners an opportunity to speak/bring an issue up in the first 10 minutes of the meeting.\n\nWe meet at different Board members houses each month\, and need advance notification if visitors would like to attend (because we don’t have unlimited space\, of course). Please let us know asap if you intend to attend.
URL:https://www.hillcrest-cluster.com/event/february-board-meeting/
LOCATION:11170 Saffold Way\, 11170 Saffold Way\, Reston\, VA\, 20190
END:VEVENT
BEGIN:VEVENT
DTSTART;TZID=America/New_York:20190108T193000
DTEND;TZID=America/New_York:20190108T210000
DTSTAMP:20260423T201221
CREATED:20190205T041009Z
LAST-MODIFIED:20190205T042650Z
UID:3969-1546975800-1546981200@www.hillcrest-cluster.com
SUMMARY:January Cluster Board Meeting
DESCRIPTION:Monthly Cluster Board Meeting \nIf you have a specific issue you’d like to bring to the Board’s attention or wish to attend the meeting in person\, please send an email to info@hillcrest-cluster.com \nWe typically provide residents/homeowners an opportunity to speak/bring an issue up in the first 10 minutes of the meeting.\n\nWe meet at different Board members houses each month\, and need advance notification if visitors would like to attend (because we don’t have unlimited space\, of course). Please let us know asap if you intend to attend.
URL:https://www.hillcrest-cluster.com/event/january-cluster-board-meeting/
LOCATION:11170 Saffold Way\, 11170 Saffold Way\, Reston\, VA\, 20190
END:VEVENT
BEGIN:VEVENT
DTSTART;TZID=UTC:20181211T183000
DTEND;TZID=UTC:20181211T203000
DTSTAMP:20260423T201221
CREATED:20181010T053614Z
LAST-MODIFIED:20181212T031624Z
UID:3912-1544553000-1544560200@www.hillcrest-cluster.com
SUMMARY:Annual Meeting
DESCRIPTION:Hillcrest Cluster Annual Member Meeting \nDinner at 6:30 | Meeting at 7:00 \nPlease use Door 7 to enter the building.  All other doors will be locked. \nMeeting presentation below: \nFINAL HCA 2018 Annual Meeting 12082018
URL:https://www.hillcrest-cluster.com/event/annual-meeting/
LOCATION:Forest Edge Elementary School\, 1501 Becontree Ln\, Reston\, VA 20190\, Reston\, VA\, 20190\, United States
END:VEVENT
BEGIN:VEVENT
DTSTART;TZID=UTC:20181113T193000
DTEND;TZID=UTC:20181113T213000
DTSTAMP:20260423T201221
CREATED:20180820T205307Z
LAST-MODIFIED:20180906T015724Z
UID:3720-1542137400-1542144600@www.hillcrest-cluster.com
SUMMARY:Board of Directors Meeting @ 11170 Saffold Way
DESCRIPTION:November Board of Directors Meeting.  If you are interested in attending a meeting of the Board\, please send an email to info@hillcrest-cluster.com to let the meeting host know\, and include  the topic you would like to discuss.
URL:https://www.hillcrest-cluster.com/event/board-of-directors-meeting-3/
LOCATION:11170 Saffold Way\, 11170 Saffold Way\, Reston\, VA\, 20190
END:VEVENT
BEGIN:VEVENT
DTSTART;TZID=UTC:20181009T193000
DTEND;TZID=UTC:20181009T213000
DTSTAMP:20260423T201221
CREATED:20180820T205118Z
LAST-MODIFIED:20180906T015753Z
UID:3716-1539113400-1539120600@www.hillcrest-cluster.com
SUMMARY:Board of Directors Meeting @ 11142 Saffold Way
DESCRIPTION:October Board of Directors Meeting.  If you are interested in attending a meeting of the Board\, please send an email to info@hillcrest-cluster.com to let the meeting host know\, and include  the topic you would like to discuss.
URL:https://www.hillcrest-cluster.com/event/board-of-directors-meeting-2/
LOCATION:11142 Saffold Way\, 11142 Saffold Way\, Reston\, VA\, 20190\, United States
END:VEVENT
BEGIN:VEVENT
DTSTART;TZID=UTC:20180922T090000
DTEND;TZID=UTC:20180922T150000
DTSTAMP:20260423T201221
CREATED:20180914T214010Z
LAST-MODIFIED:20180914T214010Z
UID:3897-1537606800-1537628400@www.hillcrest-cluster.com
SUMMARY:Cluster Picnic & Fall Cleanup
DESCRIPTION:Dear Hillcrest Neighbors\, \nThe Cluster Picnic and the Fall Cluster Cleanup is scheduled for Saturday\, September 22nd. The event will focus on beautifying the neighborhood\, as well as provide an opportunity to meet your neighbors. \nCleanup is scheduled from 9 AM to 12 PM. Please meet at the basketball court to volunteer. Dress in work clothes and bring work gloves. \nCluster Picnic is scheduled from 12 PM to 3 PM. Hamburgers\, hot dogs\, chips and beverages will be provided. Everyone is welcome! \nLet’s build community! If you would like to volunteer or contribute to the Cleanup and/or Picnic (dessert\, salad\, or side dishes are welcome!) please contact Ramon Bonzon at rlbonzon@gmail.com or (919)800-8537. \nWe look forward to seeing you!
URL:https://www.hillcrest-cluster.com/event/cluster-picnic-fall-cleanup/
LOCATION:Basketball Court\, 11116 Saffold Way\, Reston\, VA\, 20190\, United States
END:VEVENT
BEGIN:VEVENT
DTSTART;TZID=UTC:20180915T083000
DTEND;TZID=UTC:20180915T120000
DTSTAMP:20260423T201221
CREATED:20180908T220003Z
LAST-MODIFIED:20180908T220003Z
UID:3883-1537000200-1537012800@www.hillcrest-cluster.com
SUMMARY:Reston Community Yard Sale
DESCRIPTION:Reston Association will be having a HUGE family Yard Sale (85 families) \non \nSaturday\, Sept. 15th from 8:30am – 12:00pm\n(Rain Date: 9/16) \nNo early birds as gates open at 8:30 a.m. \nLocation: Parking lot at \n1900 Campus Commons Dr. \n(corner of Sunrise Valley Dr. & Wiehle Ave) \nThis is a great time to find bargains for home or college dorm! \nKids clothes/toys\, kitchen items\, furniture and more! \nPizza/drinks will be \navailable for purchase \nVENDOR SPACE IS SOLD OUT! \n(No calls for space please) \n  \nPass this on to family and friends who may be interested to come shopping \nIn case of rain in the forecast\, \ncall 703-435-6577 after 4:30am the morning of the event for a recorded message. \n(Flyer Attached Here)
URL:https://www.hillcrest-cluster.com/event/reston-community-yard-sale/
LOCATION:1900 Campus Commons Dr. Reston\, VA 20190\, 1900 Campus Commons Dr.\, Reston\, VA\, 20190\, United States
END:VEVENT
BEGIN:VEVENT
DTSTART;TZID=UTC:20180911T193000
DTEND;TZID=UTC:20180911T213000
DTSTAMP:20260423T201221
CREATED:20180820T204416Z
LAST-MODIFIED:20180906T015820Z
UID:3712-1536694200-1536701400@www.hillcrest-cluster.com
SUMMARY:Board of Directors Meeting @ 11093 Saffold Way
DESCRIPTION:September Board of Directors Meeting.  If you are interested in attending a meeting of the Board\, please send an email to info@hillcrest-cluster.com to let the meeting host know\, and include  the topic you would like to discuss.
URL:https://www.hillcrest-cluster.com/event/board-of-directors-meeting/
LOCATION:11093 Saffold Way\, 11093 Saffold Way\, Reston\, VA\, 20190
END:VEVENT
END:VCALENDAR