BEGIN:VCALENDAR
VERSION:2.0
PRODID:-//Hillcrest At Saffold Way - ECPv6.15.20//NONSGML v1.0//EN
CALSCALE:GREGORIAN
METHOD:PUBLISH
X-WR-CALNAME:Hillcrest At Saffold Way
X-ORIGINAL-URL:https://www.hillcrest-cluster.com
X-WR-CALDESC:Events for Hillcrest At Saffold Way
REFRESH-INTERVAL;VALUE=DURATION:PT1H
X-Robots-Tag:noindex
X-PUBLISHED-TTL:PT1H
BEGIN:VTIMEZONE
TZID:UTC
BEGIN:STANDARD
TZOFFSETFROM:+0000
TZOFFSETTO:+0000
TZNAME:UTC
DTSTART:20180101T000000
END:STANDARD
END:VTIMEZONE
BEGIN:VTIMEZONE
TZID:America/New_York
BEGIN:DAYLIGHT
TZOFFSETFROM:-0500
TZOFFSETTO:-0400
TZNAME:EDT
DTSTART:20180311T070000
END:DAYLIGHT
BEGIN:STANDARD
TZOFFSETFROM:-0400
TZOFFSETTO:-0500
TZNAME:EST
DTSTART:20181104T060000
END:STANDARD
BEGIN:DAYLIGHT
TZOFFSETFROM:-0500
TZOFFSETTO:-0400
TZNAME:EDT
DTSTART:20190310T070000
END:DAYLIGHT
BEGIN:STANDARD
TZOFFSETFROM:-0400
TZOFFSETTO:-0500
TZNAME:EST
DTSTART:20191103T060000
END:STANDARD
BEGIN:DAYLIGHT
TZOFFSETFROM:-0500
TZOFFSETTO:-0400
TZNAME:EDT
DTSTART:20200308T070000
END:DAYLIGHT
BEGIN:STANDARD
TZOFFSETFROM:-0400
TZOFFSETTO:-0500
TZNAME:EST
DTSTART:20201101T060000
END:STANDARD
BEGIN:DAYLIGHT
TZOFFSETFROM:-0500
TZOFFSETTO:-0400
TZNAME:EDT
DTSTART:20210314T070000
END:DAYLIGHT
BEGIN:STANDARD
TZOFFSETFROM:-0400
TZOFFSETTO:-0500
TZNAME:EST
DTSTART:20211107T060000
END:STANDARD
END:VTIMEZONE
BEGIN:VEVENT
DTSTART;TZID=UTC:20230411T200000
DTEND;TZID=UTC:20230411T213000
DTSTAMP:20260423T164523
CREATED:20230315T052557Z
LAST-MODIFIED:20230315T052721Z
UID:7107-1681243200-1681248600@www.hillcrest-cluster.com
SUMMARY:April Board Meeting
DESCRIPTION:Monthly Cluster Board Meeting \nIf you have a specific issue you’d like to bring to the Board’s attention or wish to attend the meeting in person\, please send an email to info@hillcrest-cluster.com \nWe typically provide residents/homeowners an opportunity to speak/bring an issue up in the first 10 minutes of the meeting.\n\nWe meet at different Board members houses each month\, and need advance notification if visitors would like to attend (because we don’t have unlimited space\, of course). Please let us know asap if you intend to attend.
URL:https://www.hillcrest-cluster.com/event/april-board-meeting-4/
END:VEVENT
BEGIN:VEVENT
DTSTART;TZID=UTC:20220714T200000
DTEND;TZID=UTC:20220714T213000
DTSTAMP:20260423T164523
CREATED:20220523T143923Z
LAST-MODIFIED:20220523T143923Z
UID:5323-1657828800-1657834200@www.hillcrest-cluster.com
SUMMARY:July Board Meeting
DESCRIPTION:Monthly Cluster Board Meeting \nIf you have a specific issue you’d like to bring to the Board’s attention or wish to attend the meeting in person\, please send an email to info@hillcrest-cluster.com \nWe typically provide residents/homeowners an opportunity to speak/bring an issue up in the first 10 minutes of the meeting.\n\nWe meet at different Board members houses each month\, and need advance notification if visitors would like to attend (because we don’t have unlimited space\, of course). Please let us know asap if you intend to attend.
URL:https://www.hillcrest-cluster.com/event/july-board-meeting-4/
END:VEVENT
BEGIN:VEVENT
DTSTART;TZID=UTC:20220621T200000
DTEND;TZID=UTC:20220621T213000
DTSTAMP:20260423T164523
CREATED:20220523T143820Z
LAST-MODIFIED:20220523T143820Z
UID:5320-1655841600-1655847000@www.hillcrest-cluster.com
SUMMARY:June Board Meeting
DESCRIPTION:Monthly Cluster Board Meeting \nIf you have a specific issue you’d like to bring to the Board’s attention or wish to attend the meeting in person\, please send an email to info@hillcrest-cluster.com \nWe typically provide residents/homeowners an opportunity to speak/bring an issue up in the first 10 minutes of the meeting.\n\nWe meet at different Board members houses each month\, and need advance notification if visitors would like to attend (because we don’t have unlimited space\, of course). Please let us know asap if you intend to attend.
URL:https://www.hillcrest-cluster.com/event/june-board-meeting-4/
LOCATION:11124 Saffold Way\, 11124 Saffold Way\, Reston\, VA\, 20190\, United States
END:VEVENT
BEGIN:VEVENT
DTSTART;TZID=UTC:20211111T193000
DTEND;TZID=UTC:20211111T210000
DTSTAMP:20260423T164523
CREATED:20210309T055121Z
LAST-MODIFIED:20210309T055121Z
UID:4569-1636659000-1636664400@www.hillcrest-cluster.com
SUMMARY:November Board Meeting
DESCRIPTION:Monthly Cluster Board Meeting \nIf you have a specific issue you’d like to bring to the Board’s attention or wish to attend the meeting in person\, please send an email to info@hillcrest-cluster.com \nWe typically provide residents/homeowners an opportunity to speak/bring an issue up in the first 10 minutes of the meeting.\n\nPlease let us know asap if you intend to attend.
URL:https://www.hillcrest-cluster.com/event/november-board-meeting-3/
END:VEVENT
BEGIN:VEVENT
DTSTART;TZID=UTC:20211014T193000
DTEND;TZID=UTC:20211014T210000
DTSTAMP:20260423T164523
CREATED:20210309T055045Z
LAST-MODIFIED:20210309T055045Z
UID:4567-1634239800-1634245200@www.hillcrest-cluster.com
SUMMARY:October Board Meeting
DESCRIPTION:Monthly Cluster Board Meeting \nIf you have a specific issue you’d like to bring to the Board’s attention or wish to attend the meeting in person\, please send an email to info@hillcrest-cluster.com \nWe typically provide residents/homeowners an opportunity to speak/bring an issue up in the first 10 minutes of the meeting.\n\nPlease let us know asap if you intend to attend.
URL:https://www.hillcrest-cluster.com/event/october-board-meeting-3/
END:VEVENT
BEGIN:VEVENT
DTSTART;TZID=UTC:20210909T193000
DTEND;TZID=UTC:20210909T210000
DTSTAMP:20260423T164523
CREATED:20210309T055012Z
LAST-MODIFIED:20210309T055012Z
UID:4565-1631215800-1631221200@www.hillcrest-cluster.com
SUMMARY:September Board Meeting
DESCRIPTION:Monthly Cluster Board Meeting \nIf you have a specific issue you’d like to bring to the Board’s attention or wish to attend the meeting in person\, please send an email to info@hillcrest-cluster.com \nWe typically provide residents/homeowners an opportunity to speak/bring an issue up in the first 10 minutes of the meeting.\n\nPlease let us know asap if you intend to attend.
URL:https://www.hillcrest-cluster.com/event/september-board-meeting-3/
END:VEVENT
BEGIN:VEVENT
DTSTART;TZID=UTC:20210708T193000
DTEND;TZID=UTC:20210708T210000
DTSTAMP:20260423T164523
CREATED:20210309T054939Z
LAST-MODIFIED:20210309T054939Z
UID:4563-1625772600-1625778000@www.hillcrest-cluster.com
SUMMARY:July Board Meeting
DESCRIPTION:Monthly Cluster Board Meeting \nIf you have a specific issue you’d like to bring to the Board’s attention or wish to attend the meeting in person\, please send an email to info@hillcrest-cluster.com \nWe typically provide residents/homeowners an opportunity to speak/bring an issue up in the first 10 minutes of the meeting.\n\nPlease let us know asap if you intend to attend.
URL:https://www.hillcrest-cluster.com/event/july-board-meeting-3/
END:VEVENT
BEGIN:VEVENT
DTSTART;TZID=UTC:20210610T193000
DTEND;TZID=UTC:20210610T210000
DTSTAMP:20260423T164523
CREATED:20210309T054911Z
LAST-MODIFIED:20210309T054911Z
UID:4561-1623353400-1623358800@www.hillcrest-cluster.com
SUMMARY:June Board Meeting
DESCRIPTION:Monthly Cluster Board Meeting \nIf you have a specific issue you’d like to bring to the Board’s attention or wish to attend the meeting in person\, please send an email to info@hillcrest-cluster.com \nWe typically provide residents/homeowners an opportunity to speak/bring an issue up in the first 10 minutes of the meeting.\n\nPlease let us know asap if you intend to attend.
URL:https://www.hillcrest-cluster.com/event/june-board-meeting-3/
END:VEVENT
BEGIN:VEVENT
DTSTART;TZID=UTC:20210513T193000
DTEND;TZID=UTC:20210513T210000
DTSTAMP:20260423T164523
CREATED:20210309T054821Z
LAST-MODIFIED:20210309T054821Z
UID:4559-1620934200-1620939600@www.hillcrest-cluster.com
SUMMARY:May Board Meeting
DESCRIPTION:Monthly Cluster Board Meeting \nIf you have a specific issue you’d like to bring to the Board’s attention or wish to attend the meeting in person\, please send an email to info@hillcrest-cluster.com \nWe typically provide residents/homeowners an opportunity to speak/bring an issue up in the first 10 minutes of the meeting.\n\nPlease let us know asap if you intend to attend.
URL:https://www.hillcrest-cluster.com/event/may-board-meeting-3/
END:VEVENT
BEGIN:VEVENT
DTSTART;TZID=UTC:20210408T193000
DTEND;TZID=UTC:20210408T210000
DTSTAMP:20260423T164523
CREATED:20210309T054746Z
LAST-MODIFIED:20210309T054845Z
UID:4557-1617910200-1617915600@www.hillcrest-cluster.com
SUMMARY:April Board Meeting
DESCRIPTION:Monthly Cluster Board Meeting \nIf you have a specific issue you’d like to bring to the Board’s attention or wish to attend the meeting in person\, please send an email to info@hillcrest-cluster.com \nWe typically provide residents/homeowners an opportunity to speak/bring an issue up in the first 10 minutes of the meeting.\n\nPlease let us know asap if you intend to attend.
URL:https://www.hillcrest-cluster.com/event/april-board-meeting-3/
END:VEVENT
BEGIN:VEVENT
DTSTART;TZID=UTC:20210311T193000
DTEND;TZID=UTC:20210311T210000
DTSTAMP:20260423T164523
CREATED:20210309T054700Z
LAST-MODIFIED:20210309T054700Z
UID:4554-1615491000-1615496400@www.hillcrest-cluster.com
SUMMARY:March Board Meeting
DESCRIPTION:Monthly Cluster Board Meeting \nIf you have a specific issue you’d like to bring to the Board’s attention or wish to attend the meeting in person\, please send an email to info@hillcrest-cluster.com \nWe typically provide residents/homeowners an opportunity to speak/bring an issue up in the first 10 minutes of the meeting.\n\nPlease let us know asap if you intend to attend.
URL:https://www.hillcrest-cluster.com/event/march-board-meeting-3/
END:VEVENT
BEGIN:VEVENT
DTSTART;TZID=UTC:20201208T190000
DTEND;TZID=UTC:20201208T210000
DTSTAMP:20260423T164523
CREATED:20200109T212605Z
LAST-MODIFIED:20200109T212605Z
UID:4225-1607454000-1607461200@www.hillcrest-cluster.com
SUMMARY:Annual Meeting & Dinner
DESCRIPTION:Annual Dinner and Meeting with Officer Elections
URL:https://www.hillcrest-cluster.com/event/annual-meeting-dinner/
LOCATION:Reston Community Center\, 1609-A Washington Plaza N\, Reston\, VA\, 20190\, United States
END:VEVENT
BEGIN:VEVENT
DTSTART;TZID=UTC:20201110T193000
DTEND;TZID=UTC:20201110T210000
DTSTAMP:20260423T164523
CREATED:20200109T212457Z
LAST-MODIFIED:20200109T212457Z
UID:4223-1605036600-1605042000@www.hillcrest-cluster.com
SUMMARY:November Board Meeting
DESCRIPTION:Monthly Cluster Board Meeting \nIf you have a specific issue you’d like to bring to the Board’s attention or wish to attend the meeting in person\, please send an email to info@hillcrest-cluster.com \nWe typically provide residents/homeowners an opportunity to speak/bring an issue up in the first 10 minutes of the meeting.\n\nWe meet at different Board members houses each month\, and need advance notification if visitors would like to attend (because we don’t have unlimited space\, of course). Please let us know asap if you intend to attend.
URL:https://www.hillcrest-cluster.com/event/november-board-meeting-2/
LOCATION:11142 Saffold Way\, 11142 Saffold Way\, Reston\, VA\, 20190\, United States
END:VEVENT
BEGIN:VEVENT
DTSTART;TZID=UTC:20201013T193000
DTEND;TZID=UTC:20201013T210000
DTSTAMP:20260423T164523
CREATED:20200109T212417Z
LAST-MODIFIED:20200109T212417Z
UID:4221-1602617400-1602622800@www.hillcrest-cluster.com
SUMMARY:October Board Meeting
DESCRIPTION:Monthly Cluster Board Meeting \nIf you have a specific issue you’d like to bring to the Board’s attention or wish to attend the meeting in person\, please send an email to info@hillcrest-cluster.com \nWe typically provide residents/homeowners an opportunity to speak/bring an issue up in the first 10 minutes of the meeting.\n\nWe meet at different Board members houses each month\, and need advance notification if visitors would like to attend (because we don’t have unlimited space\, of course). Please let us know asap if you intend to attend.
URL:https://www.hillcrest-cluster.com/event/october-board-meeting-2/
LOCATION:11170 Saffold Way\, 11170 Saffold Way\, Reston\, VA\, 20190
END:VEVENT
BEGIN:VEVENT
DTSTART;TZID=UTC:20200908T193000
DTEND;TZID=UTC:20200908T210000
DTSTAMP:20260423T164523
CREATED:20200109T212337Z
LAST-MODIFIED:20200109T212337Z
UID:4219-1599593400-1599598800@www.hillcrest-cluster.com
SUMMARY:September Board Meeting
DESCRIPTION:Monthly Cluster Board Meeting \nIf you have a specific issue you’d like to bring to the Board’s attention or wish to attend the meeting in person\, please send an email to info@hillcrest-cluster.com \nWe typically provide residents/homeowners an opportunity to speak/bring an issue up in the first 10 minutes of the meeting.\n\nWe meet at different Board members houses each month\, and need advance notification if visitors would like to attend (because we don’t have unlimited space\, of course). Please let us know asap if you intend to attend.
URL:https://www.hillcrest-cluster.com/event/september-board-meeting-2/
LOCATION:11100 Saffold Way\, 11100 Saffold Way\, Reston\, VA\, 20190\, United States
END:VEVENT
BEGIN:VEVENT
DTSTART;TZID=UTC:20200714T193000
DTEND;TZID=UTC:20200714T210000
DTSTAMP:20260423T164523
CREATED:20200109T212250Z
LAST-MODIFIED:20200109T212250Z
UID:4217-1594755000-1594760400@www.hillcrest-cluster.com
SUMMARY:July Board Meeting
DESCRIPTION:Monthly Cluster Board Meeting \nIf you have a specific issue you’d like to bring to the Board’s attention or wish to attend the meeting in person\, please send an email to info@hillcrest-cluster.com \nWe typically provide residents/homeowners an opportunity to speak/bring an issue up in the first 10 minutes of the meeting.\n\nWe meet at different Board members houses each month\, and need advance notification if visitors would like to attend (because we don’t have unlimited space\, of course). Please let us know asap if you intend to attend.
URL:https://www.hillcrest-cluster.com/event/july-board-meeting-2/
LOCATION:11119 Saffold Way\, 11119 Saffold Way\, Reston\, VA\, 20190\, United States
END:VEVENT
BEGIN:VEVENT
DTSTART;TZID=UTC:20200610T193000
DTEND;TZID=UTC:20200610T210000
DTSTAMP:20260423T164523
CREATED:20200109T212204Z
LAST-MODIFIED:20200109T212204Z
UID:4215-1591817400-1591822800@www.hillcrest-cluster.com
SUMMARY:June Board Meeting
DESCRIPTION:Monthly Cluster Board Meeting \nIf you have a specific issue you’d like to bring to the Board’s attention or wish to attend the meeting in person\, please send an email to info@hillcrest-cluster.com \nWe typically provide residents/homeowners an opportunity to speak/bring an issue up in the first 10 minutes of the meeting.\n\nWe meet at different Board members houses each month\, and need advance notification if visitors would like to attend (because we don’t have unlimited space\, of course). Please let us know asap if you intend to attend.
URL:https://www.hillcrest-cluster.com/event/june-board-meeting-2/
LOCATION:11142 Saffold Way\, 11142 Saffold Way\, Reston\, VA\, 20190\, United States
END:VEVENT
BEGIN:VEVENT
DTSTART;TZID=UTC:20200513T193000
DTEND;TZID=UTC:20200513T210000
DTSTAMP:20260423T164523
CREATED:20200109T212107Z
LAST-MODIFIED:20200109T212107Z
UID:4213-1589398200-1589403600@www.hillcrest-cluster.com
SUMMARY:May Board Meeting
DESCRIPTION:Monthly Cluster Board Meeting \nIf you have a specific issue you’d like to bring to the Board’s attention or wish to attend the meeting in person\, please send an email to info@hillcrest-cluster.com \nWe typically provide residents/homeowners an opportunity to speak/bring an issue up in the first 10 minutes of the meeting.\n\nWe meet at different Board members houses each month\, and need advance notification if visitors would like to attend (because we don’t have unlimited space\, of course). Please let us know asap if you intend to attend.
URL:https://www.hillcrest-cluster.com/event/may-board-meeting-2/
LOCATION:11170 Saffold Way\, 11170 Saffold Way\, Reston\, VA\, 20190
END:VEVENT
BEGIN:VEVENT
DTSTART;TZID=UTC:20200415T193000
DTEND;TZID=UTC:20200415T210000
DTSTAMP:20260423T164523
CREATED:20200109T212011Z
LAST-MODIFIED:20200109T212011Z
UID:4210-1586979000-1586984400@www.hillcrest-cluster.com
SUMMARY:April Board Meeting
DESCRIPTION:Monthly Cluster Board Meeting \nIf you have a specific issue you’d like to bring to the Board’s attention or wish to attend the meeting in person\, please send an email to info@hillcrest-cluster.com \nWe typically provide residents/homeowners an opportunity to speak/bring an issue up in the first 10 minutes of the meeting.\n\nWe meet at different Board members houses each month\, and need advance notification if visitors would like to attend (because we don’t have unlimited space\, of course). Please let us know asap if you intend to attend.
URL:https://www.hillcrest-cluster.com/event/april-board-meeting-2/
LOCATION:11100 Saffold Way\, 11100 Saffold Way\, Reston\, VA\, 20190\, United States
END:VEVENT
BEGIN:VEVENT
DTSTART;TZID=UTC:20200311T193000
DTEND;TZID=UTC:20200311T210000
DTSTAMP:20260423T164523
CREATED:20200109T211845Z
LAST-MODIFIED:20200109T211845Z
UID:4208-1583955000-1583960400@www.hillcrest-cluster.com
SUMMARY:March Board Meeting
DESCRIPTION:Monthly Cluster Board Meeting \nIf you have a specific issue you’d like to bring to the Board’s attention or wish to attend the meeting in person\, please send an email to info@hillcrest-cluster.com \nWe typically provide residents/homeowners an opportunity to speak/bring an issue up in the first 10 minutes of the meeting.\n\nWe meet at different Board members houses each month\, and need advance notification if visitors would like to attend (because we don’t have unlimited space\, of course). Please let us know asap if you intend to attend.
URL:https://www.hillcrest-cluster.com/event/march-board-meeting-2/
LOCATION:11142 Saffold Way\, 11142 Saffold Way\, Reston\, VA\, 20190\, United States
END:VEVENT
BEGIN:VEVENT
DTSTART;TZID=UTC:20200213T193000
DTEND;TZID=UTC:20200213T210000
DTSTAMP:20260423T164523
CREATED:20200109T211759Z
LAST-MODIFIED:20200201T225031Z
UID:4206-1581622200-1581627600@www.hillcrest-cluster.com
SUMMARY:February Board Meeting
DESCRIPTION:Monthly Cluster Board Meeting \nIf you have a specific issue you’d like to bring to the Board’s attention or wish to attend the meeting in person\, please send an email to info@hillcrest-cluster.com \nWe typically provide residents/homeowners an opportunity to speak/bring an issue up in the first 10 minutes of the meeting.\n\nWe meet at different Board members houses each month\, and need advance notification if visitors would like to attend (because we don’t have unlimited space\, of course). Please let us know asap if you intend to attend.
URL:https://www.hillcrest-cluster.com/event/february-board-meeting-2/
LOCATION:11119 Saffold Way\, 11119 Saffold Way\, Reston\, VA\, 20190\, United States
END:VEVENT
BEGIN:VEVENT
DTSTART;TZID=America/New_York:20200130T160000
DTEND;TZID=America/New_York:20200130T190000
DTSTAMP:20260423T164523
CREATED:20191205T211102Z
LAST-MODIFIED:20191205T211127Z
UID:4185-1580400000-1580410800@www.hillcrest-cluster.com
SUMMARY:Cluster Offsite Happy Hour
DESCRIPTION:Looking to meet your neighbors or members of the Board for the Clutster?  Join us at Lake Anne Brew House on Washington Plaza on January 30th from 4-7pm for an informal social cash bar event at a local business.  Can’t stay long?  Don’t forget to bring a Growler if you want to take some beer home.  They also have kombucha\, cold brew coffee on nitro\, non-alcoholic hopped-tea beverages\, custom craft sodas\, and of course delicious Nordic Knot pretzels hot from the oven to eat. \nWe will have a sign up in the back room of the taproom as a place for people to gather. \nThe address for Lake Anne Brew House is 11424 Washington Plaza W\, Reston\, VA 20190\, though you should use 11401 North Shore Dr\, Reston in the GPS to navigate to where public parking is available.
URL:https://www.hillcrest-cluster.com/event/cluster-offsite-happy-hour/
LOCATION:Lake Anne Brew House\, 11424 Washington Plaza W.\, Reston\, VA\, 20190\, United States
CATEGORIES:Social Events
ATTACH;FMTTYPE=image/jpeg:https://www.hillcrest-cluster.com/wp-content/uploads/2019/12/20160411-025-Lake-Anne-Brew-House.jpg
END:VEVENT
BEGIN:VEVENT
DTSTART;TZID=UTC:20200115T193000
DTEND;TZID=UTC:20200115T210000
DTSTAMP:20260423T164523
CREATED:20200109T211611Z
LAST-MODIFIED:20200109T211611Z
UID:4204-1579116600-1579122000@www.hillcrest-cluster.com
SUMMARY:January Board Meeting
DESCRIPTION:Monthly Cluster Board Meeting \nIf you have a specific issue you’d like to bring to the Board’s attention or wish to attend the meeting in person\, please send an email to info@hillcrest-cluster.com \nWe typically provide residents/homeowners an opportunity to speak/bring an issue up in the first 10 minutes of the meeting.\n\nWe meet at different Board members houses each month\, and need advance notification if visitors would like to attend (because we don’t have unlimited space\, of course). Please let us know asap if you intend to attend.
URL:https://www.hillcrest-cluster.com/event/january-board-meeting/
LOCATION:11170 Saffold Way\, 11170 Saffold Way\, Reston\, VA\, 20190
END:VEVENT
BEGIN:VEVENT
DTSTART;TZID=America/New_York:20191210T190000
DTEND;TZID=America/New_York:20191210T210000
DTSTAMP:20260423T164523
CREATED:20190205T042801Z
LAST-MODIFIED:20190205T042801Z
UID:4007-1576004400-1576011600@www.hillcrest-cluster.com
SUMMARY:Annual Dinner & Meeting
DESCRIPTION:Annual Dinner and Meeting with Officer Elections
URL:https://www.hillcrest-cluster.com/event/annual-dinner-meeting/
LOCATION:Reston Community Center\, 1609-A Washington Plaza N\, Reston\, VA\, 20190\, United States
END:VEVENT
BEGIN:VEVENT
DTSTART;TZID=America/New_York:20191112T193000
DTEND;TZID=America/New_York:20191112T210000
DTSTAMP:20260423T164523
CREATED:20190205T042203Z
LAST-MODIFIED:20190205T042229Z
UID:3994-1573587000-1573592400@www.hillcrest-cluster.com
SUMMARY:November Board Meeting
DESCRIPTION:Monthly Cluster Board Meeting \nIf you have a specific issue you’d like to bring to the Board’s attention or wish to attend the meeting in person\, please send an email to info@hillcrest-cluster.com \nWe typically provide residents/homeowners an opportunity to speak/bring an issue up in the first 10 minutes of the meeting.\n\nWe meet at different Board members houses each month\, and need advance notification if visitors would like to attend (because we don’t have unlimited space\, of course). Please let us know asap if you intend to attend.
URL:https://www.hillcrest-cluster.com/event/november-board-meeting/
LOCATION:11170 Saffold Way\, 11170 Saffold Way\, Reston\, VA\, 20190
END:VEVENT
BEGIN:VEVENT
DTSTART;TZID=America/New_York:20191022T193000
DTEND;TZID=America/New_York:20191022T210000
DTSTAMP:20260423T164523
CREATED:20190205T042116Z
LAST-MODIFIED:20190911T051521Z
UID:3992-1571772600-1571778000@www.hillcrest-cluster.com
SUMMARY:October Board Meeting
DESCRIPTION:Monthly Cluster Board Meeting \nIf you have a specific issue you’d like to bring to the Board’s attention or wish to attend the meeting in person\, please send an email to info@hillcrest-cluster.com \nWe typically provide residents/homeowners an opportunity to speak/bring an issue up in the first 10 minutes of the meeting.\n\nWe meet at different Board members houses each month\, and need advance notification if visitors would like to attend (because we don’t have unlimited space\, of course). Please let us know asap if you intend to attend.
URL:https://www.hillcrest-cluster.com/event/october-board-meeting/
LOCATION:11142 Saffold Way\, 11142 Saffold Way\, Reston\, VA\, 20190\, United States
END:VEVENT
BEGIN:VEVENT
DTSTART;TZID=America/New_York:20190910T193000
DTEND;TZID=America/New_York:20190910T210000
DTSTAMP:20260423T164523
CREATED:20190205T041930Z
LAST-MODIFIED:20190205T042312Z
UID:3988-1568143800-1568149200@www.hillcrest-cluster.com
SUMMARY:September Board Meeting
DESCRIPTION:Monthly Cluster Board Meeting \nIf you have a specific issue you’d like to bring to the Board’s attention or wish to attend the meeting in person\, please send an email to info@hillcrest-cluster.com \nWe typically provide residents/homeowners an opportunity to speak/bring an issue up in the first 10 minutes of the meeting.\n\nWe meet at different Board members houses each month\, and need advance notification if visitors would like to attend (because we don’t have unlimited space\, of course). Please let us know asap if you intend to attend.
URL:https://www.hillcrest-cluster.com/event/september-board-meeting/
LOCATION:11052 Saffold Way\, 11052 Saffold Way\, Reston\, VA\, 20190\, United States
END:VEVENT
BEGIN:VEVENT
DTSTART;VALUE=DATE:20190907
DTEND;VALUE=DATE:20190908
DTSTAMP:20260423T164523
CREATED:20190205T042031Z
LAST-MODIFIED:20190205T042031Z
UID:3990-1567814400-1567900799@www.hillcrest-cluster.com
SUMMARY:Cluster Picnic & Cleanup
DESCRIPTION:Join us for the Annual Cluster Picnic and Cleanup at the Cluster Basketball Court.
URL:https://www.hillcrest-cluster.com/event/cluster-picnic-cleanup/
LOCATION:Basketball Court\, 11116 Saffold Way\, Reston\, VA\, 20190\, United States
END:VEVENT
BEGIN:VEVENT
DTSTART;TZID=America/New_York:20190709T193000
DTEND;TZID=America/New_York:20190709T210000
DTSTAMP:20260423T164523
CREATED:20190205T041745Z
LAST-MODIFIED:20190205T042334Z
UID:3986-1562700600-1562706000@www.hillcrest-cluster.com
SUMMARY:July Board Meeting
DESCRIPTION:Monthly Cluster Board Meeting \nIf you have a specific issue you’d like to bring to the Board’s attention or wish to attend the meeting in person\, please send an email to info@hillcrest-cluster.com \nWe typically provide residents/homeowners an opportunity to speak/bring an issue up in the first 10 minutes of the meeting.\n\nWe meet at different Board members houses each month\, and need advance notification if visitors would like to attend (because we don’t have unlimited space\, of course). Please let us know asap if you intend to attend.
URL:https://www.hillcrest-cluster.com/event/july-board-meeting/
LOCATION:11093 Saffold Way\, 11093 Saffold Way\, Reston\, VA\, 20190
END:VEVENT
BEGIN:VEVENT
DTSTART;TZID=America/New_York:20190611T193000
DTEND;TZID=America/New_York:20190611T210000
DTSTAMP:20260423T164523
CREATED:20190205T041657Z
LAST-MODIFIED:20190205T042407Z
UID:3984-1560281400-1560286800@www.hillcrest-cluster.com
SUMMARY:June Board Meeting
DESCRIPTION:Monthly Cluster Board Meeting \nIf you have a specific issue you’d like to bring to the Board’s attention or wish to attend the meeting in person\, please send an email to info@hillcrest-cluster.com \nWe typically provide residents/homeowners an opportunity to speak/bring an issue up in the first 10 minutes of the meeting.\n\nWe meet at different Board members houses each month\, and need advance notification if visitors would like to attend (because we don’t have unlimited space\, of course). Please let us know asap if you intend to attend.
URL:https://www.hillcrest-cluster.com/event/june-board-meeting/
LOCATION:11119 Saffold Way\, 11119 Saffold Way\, Reston\, VA\, 20190\, United States
END:VEVENT
END:VCALENDAR