BEGIN:VCALENDAR
VERSION:2.0
PRODID:-//Hillcrest At Saffold Way - ECPv6.15.20//NONSGML v1.0//EN
CALSCALE:GREGORIAN
METHOD:PUBLISH
X-ORIGINAL-URL:https://www.hillcrest-cluster.com
X-WR-CALDESC:Events for Hillcrest At Saffold Way
REFRESH-INTERVAL;VALUE=DURATION:PT1H
X-Robots-Tag:noindex
X-PUBLISHED-TTL:PT1H
BEGIN:VTIMEZONE
TZID:America/New_York
BEGIN:DAYLIGHT
TZOFFSETFROM:-0500
TZOFFSETTO:-0400
TZNAME:EDT
DTSTART:20190310T070000
END:DAYLIGHT
BEGIN:STANDARD
TZOFFSETFROM:-0400
TZOFFSETTO:-0500
TZNAME:EST
DTSTART:20191103T060000
END:STANDARD
BEGIN:DAYLIGHT
TZOFFSETFROM:-0500
TZOFFSETTO:-0400
TZNAME:EDT
DTSTART:20200308T070000
END:DAYLIGHT
BEGIN:STANDARD
TZOFFSETFROM:-0400
TZOFFSETTO:-0500
TZNAME:EST
DTSTART:20201101T060000
END:STANDARD
BEGIN:DAYLIGHT
TZOFFSETFROM:-0500
TZOFFSETTO:-0400
TZNAME:EDT
DTSTART:20210314T070000
END:DAYLIGHT
BEGIN:STANDARD
TZOFFSETFROM:-0400
TZOFFSETTO:-0500
TZNAME:EST
DTSTART:20211107T060000
END:STANDARD
END:VTIMEZONE
BEGIN:VEVENT
DTSTART;TZID=America/New_York:20200130T160000
DTEND;TZID=America/New_York:20200130T190000
DTSTAMP:20260423T163640
CREATED:20191205T211102Z
LAST-MODIFIED:20191205T211127Z
UID:4185-1580400000-1580410800@www.hillcrest-cluster.com
SUMMARY:Cluster Offsite Happy Hour
DESCRIPTION:Looking to meet your neighbors or members of the Board for the Clutster?  Join us at Lake Anne Brew House on Washington Plaza on January 30th from 4-7pm for an informal social cash bar event at a local business.  Can’t stay long?  Don’t forget to bring a Growler if you want to take some beer home.  They also have kombucha\, cold brew coffee on nitro\, non-alcoholic hopped-tea beverages\, custom craft sodas\, and of course delicious Nordic Knot pretzels hot from the oven to eat. \nWe will have a sign up in the back room of the taproom as a place for people to gather. \nThe address for Lake Anne Brew House is 11424 Washington Plaza W\, Reston\, VA 20190\, though you should use 11401 North Shore Dr\, Reston in the GPS to navigate to where public parking is available.
URL:https://www.hillcrest-cluster.com/event/cluster-offsite-happy-hour/
LOCATION:Lake Anne Brew House\, 11424 Washington Plaza W.\, Reston\, VA\, 20190\, United States
CATEGORIES:Social Events
ATTACH;FMTTYPE=image/jpeg:https://www.hillcrest-cluster.com/wp-content/uploads/2019/12/20160411-025-Lake-Anne-Brew-House.jpg
END:VEVENT
END:VCALENDAR